BEGIN:VCALENDAR
VERSION:2.0
PRODID:-//Acceleration Paradigm - ECPv6.15.20//NONSGML v1.0//EN
CALSCALE:GREGORIAN
METHOD:PUBLISH
X-WR-CALNAME:Acceleration Paradigm
X-ORIGINAL-URL:https://accelerationparadigm.com
X-WR-CALDESC:Events for Acceleration Paradigm
REFRESH-INTERVAL;VALUE=DURATION:PT1H
X-Robots-Tag:noindex
X-PUBLISHED-TTL:PT1H
BEGIN:VTIMEZONE
TZID:America/New_York
BEGIN:DAYLIGHT
TZOFFSETFROM:-0500
TZOFFSETTO:-0400
TZNAME:EDT
DTSTART:20200308T070000
END:DAYLIGHT
BEGIN:STANDARD
TZOFFSETFROM:-0400
TZOFFSETTO:-0500
TZNAME:EST
DTSTART:20201101T060000
END:STANDARD
BEGIN:DAYLIGHT
TZOFFSETFROM:-0500
TZOFFSETTO:-0400
TZNAME:EDT
DTSTART:20210314T070000
END:DAYLIGHT
BEGIN:STANDARD
TZOFFSETFROM:-0400
TZOFFSETTO:-0500
TZNAME:EST
DTSTART:20211107T060000
END:STANDARD
BEGIN:DAYLIGHT
TZOFFSETFROM:-0500
TZOFFSETTO:-0400
TZNAME:EDT
DTSTART:20220313T070000
END:DAYLIGHT
BEGIN:STANDARD
TZOFFSETFROM:-0400
TZOFFSETTO:-0500
TZNAME:EST
DTSTART:20221106T060000
END:STANDARD
END:VTIMEZONE
BEGIN:VEVENT
DTSTART;TZID=America/New_York:20210527T160000
DTEND;TZID=America/New_York:20210527T170000
DTSTAMP:20260424T164816
CREATED:20210526T161139Z
LAST-MODIFIED:20210526T161139Z
UID:10-1622131200-1622134800@accelerationparadigm.com
SUMMARY:Test Event
DESCRIPTION:This is a test.
URL:https://accelerationparadigm.com/event/test-event/
LOCATION:La Casa De Mi\, 4229 Belle Meade Cir\, Belmont\, North Carolina\, 28012
ATTACH;FMTTYPE=image/gif:https://accelerationparadigm.com/wp-content/uploads/2021/05/its-the-customers.gif
ORGANIZER;CN="Stephen McLain":MAILTO:stephen.mclain@outlook.com
END:VEVENT
END:VCALENDAR